BEGIN:VCALENDAR
PRODID:RAVE.CA V17.0
X-WR-CALNAME:Barbara Brown, Laflèche
X-ORIGINAL-URL:https://www.rave.ca/event/3453/
VERSION:2.0
CALSCALE:GREGORIAN
METHOD:PUBLISH
BEGIN:VEVENT
DTSTAMP:20040531T000000Z
LAST-MODIFIED:20040531T000000Z
CREATED:20040531T000000Z
SEQUENCE:3453
ORGANIZER:Unknown
DTSTART:20040612T000000Z
DTEND:20040612T000000Z
UID:event_3453@rave.ca
SUMMARY:Barbara Brown\, Laflèche
LOCATION:Aria\, Afterhours
URL:https://www.rave.ca/event/3453/
DESCRIPTION:
CLASS:PUBLIC
CATEGORIES:
STATUS:CONFIRMED
PARTSTAT:ACCEPTED
END:VEVENT
END:VCALENDAR
