BEGIN:VCALENDAR
PRODID:RAVE.CA V17.0
X-WR-CALNAME:James Lavelle, Maus, Nic B
X-ORIGINAL-URL:https://www.rave.ca/event/3422/
VERSION:2.0
CALSCALE:GREGORIAN
METHOD:PUBLISH
BEGIN:VEVENT
DTSTAMP:20040528T000000Z
LAST-MODIFIED:20040528T000000Z
CREATED:20040528T000000Z
SEQUENCE:3422
ORGANIZER:Unknown
DTSTART:20030426T000000Z
DTEND:20030426T000000Z
UID:event_3422@rave.ca
SUMMARY:James Lavelle\, Maus\, Nic B
LOCATION:Aria\, Afterhours
URL:https://www.rave.ca/event/3422/
DESCRIPTION:
CLASS:PUBLIC
CATEGORIES:
STATUS:CONFIRMED
PARTSTAT:ACCEPTED
END:VEVENT
END:VCALENDAR
