BEGIN:VCALENDAR
PRODID:RAVE.CA V17.0
X-WR-CALNAME:Neurotik Halloween Party Au Métropolis !!!
X-ORIGINAL-URL:https://www.rave.ca/event/34198/
VERSION:2.0
CALSCALE:GREGORIAN
METHOD:PUBLISH
BEGIN:VEVENT
DTSTAMP:20091027T164850Z
LAST-MODIFIED:20091027T164850Z
CREATED:20091021T211605Z
SEQUENCE:34198
ORGANIZER:Neurotik Sound  System
DTSTART:20091030T210000Z
DTEND:20091031T030000Z
UID:event_34198@rave.ca
SUMMARY:Neurotik Halloween Party Au Métropolis !!!
LOCATION:Unknown
URL:https://www.rave.ca/event/34198/
DESCRIPTION:Neurotik vous convie à venir fêter l'Halloween en grand et grandement déguisé!!!\n\nVenez faire la fête au Métropolis dans le Savoy\, une salle classe comme nous\, on vous déroule le tapis rouge pour une ambiance feutrée avec du beat sexy!!!\n\nline up: \n\nMoebius \nMutante \nDIGITAL GIPSY FR (Mobile Unit) avec un live tribe de la bombe\nDialect VS Milton Clark!!!\nBassic \nZone 33\nBypass tomtom\n\nMC Moe-tee
CLASS:PUBLIC
CATEGORIES:
STATUS:CONFIRMED
PARTSTAT:ACCEPTED
END:VEVENT
END:VCALENDAR
