BEGIN:VCALENDAR
PRODID:RAVE.CA V17.0
X-WR-CALNAME:Rsd-Rob Smith (Uk), Bombaman &amp; Xi (To), Construct &amp; Living-Stone
X-ORIGINAL-URL:https://www.rave.ca/event/34156/
VERSION:2.0
CALSCALE:GREGORIAN
METHOD:PUBLISH
BEGIN:VEVENT
DTSTAMP:20091020T175031Z
LAST-MODIFIED:20091020T175031Z
CREATED:20091020T133321Z
SEQUENCE:34156
ORGANIZER:BASS M.O.B.
DTSTART:20091024T220000Z
DTEND:20091025T030000Z
UID:event_34156@rave.ca
SUMMARY:Rsd-Rob Smith (Uk)\, Bombaman & Xi (To)\, Construct & Living-Stone
LOCATION:Gymnase\, Le
URL:https://www.rave.ca/event/34156/
DESCRIPTION:BASS M.O.B. Presents:\n\nRSD\, ROB SMITH of Smith and Mighty\nUNITED-KINGDOM\n\nBOMBAMAN\, LOETECH\,LoDubs\, ESP\, Aufect\, Senseless\,Electrostim\nTORONTO\n\nXI\, LOETECH\,Lo Dubs\, Off Road\, Aufect\, Surface\, Tension Formant\nTORONTO\n\nCONSTRUCT\,High on Beats\, Wickedbad.net\nMONTREAL\n\nLIVING~STONE\nMONTREAL\n\nVISUAL: Matt Williston\n\n\n\nTICKETS 10$\, available @ MOOG AUDIO
CLASS:PUBLIC
CATEGORIES:
STATUS:CONFIRMED
PARTSTAT:ACCEPTED
END:VEVENT
END:VCALENDAR
