BEGIN:VCALENDAR
PRODID:RAVE.CA V17.0
X-WR-CALNAME:Mixhell (Feat. Igor Cavalera)
X-ORIGINAL-URL:https://www.rave.ca/event/34155/
VERSION:2.0
CALSCALE:GREGORIAN
METHOD:PUBLISH
BEGIN:VEVENT
DTSTAMP:20091020T110839Z
LAST-MODIFIED:20091020T110839Z
CREATED:20091020T110306Z
SEQUENCE:34155
ORGANIZER:Unknown
DTSTART:20091105T220000Z
DTEND:20091105T220000Z
UID:event_34155@rave.ca
SUMMARY:Mixhell (Feat. Igor Cavalera)
LOCATION:Dagobert
URL:https://www.rave.ca/event/34155/
DESCRIPTION:Mixhell (Brésil ) dj set + live act\nhttp://www.myspace.com/mixhell\nConsidéré par certains comme le meilleur batteur au monde\, Iggor Cavalera a délaissé le groupe de métal brésilien Sepultura et ses millions de disques vendus pour former le duo Mixhell avec sa femme\, Laima Leyton. Le couple décrit sa musique comme étant « un mélange d’eclectro\, de rock\, de ghetto tech\, de Baltimore club et plus encore ». La vie est tellement pleine de surprises…\n\n-----\n\nElectrique djs (Qc)\nhttp://www.musicnfriends.ca:\nAprès avoir taillé une place derrière les platines à plusieurs artistes au cours des derniers mois\, Le duo Électrique composé de Dez.1 et M.I.M (djs fundateurs de la compagnie Music & Friends) font un mélange parfait des sonorités électro\, house\, tech et même drum'n bass. Electrique\; le combo parfait pour vous servir une savante fusion !\n\n-----\n\nCooper (Qc)\nhttp://www.myspace.com/wrickcooper
CLASS:PUBLIC
CATEGORIES:
STATUS:CONFIRMED
PARTSTAT:ACCEPTED
END:VEVENT
END:VCALENDAR
