BEGIN:VCALENDAR
PRODID:RAVE.CA V17.0
X-WR-CALNAME:Hatebreed, Cannibal Corpse, Unearth, Born Of Osiris, Hate Eternal
X-ORIGINAL-URL:https://www.rave.ca/event/34119/
VERSION:2.0
CALSCALE:GREGORIAN
METHOD:PUBLISH
BEGIN:VEVENT
DTSTAMP:20091014T063345Z
LAST-MODIFIED:20091014T063345Z
CREATED:20091014T063213Z
SEQUENCE:34119
ORGANIZER:Unknown
DTSTART:20091217T183000Z
DTEND:20091217T183000Z
UID:event_34119@rave.ca
SUMMARY:Hatebreed\, Cannibal Corpse\, Unearth\, Born Of Osiris\, Hate Eternal
LOCATION:Metropolis
URL:https://www.rave.ca/event/34119/
DESCRIPTION:Hatebreed\, Cannibal Corpse\, Unearth\, Born Of Osiris\, Hate Eternal
CLASS:PUBLIC
CATEGORIES:
STATUS:CONFIRMED
PARTSTAT:ACCEPTED
END:VEVENT
END:VCALENDAR
