BEGIN:VCALENDAR
PRODID:RAVE.CA V17.0
X-WR-CALNAME:War Is Over !!!!!
X-ORIGINAL-URL:https://www.rave.ca/event/33524/
VERSION:2.0
CALSCALE:GREGORIAN
METHOD:PUBLISH
BEGIN:VEVENT
DTSTAMP:20100710T210640Z
LAST-MODIFIED:20100710T210640Z
CREATED:20090927T164325Z
SEQUENCE:33524
ORGANIZER:Unknown
DTSTART:20100711T110000Z
DTEND:20100711T110000Z
UID:event_33524@rave.ca
SUMMARY:War Is Over !!!!!
LOCATION:Unknown
URL:https://www.rave.ca/event/33524/
DESCRIPTION:war is over\n                               (line up's)\n                    vendredi\n                  21h00 :    dj.patate          (avec # de cirque)\n                samedi\n                  00h00 :    dj.AIKIDO       ( prog\, house\, electro)\n                  2hoo   :  dj.Wally                ( Dub step ) + groupe  risk\n                  4h00   :   dj.Galak's             ( Drum 'n' Bass )\n                  7h00   :   dj.Pleckobwoy      ( Jungle \, Dub step )\n                  9h30   :    dj.Max Benton       ( Minimal tech  ) \n                 12h30  :            RELAXATION ET DÉCOMPRESSION  /\n                                     AVEC GROUPE DE MUSIQUE\n                 13h30   :            open tables          ( 8h30 )\n           22h00 :                Bypass   LIVE       ( Électrotek )\n             Dimanche\n                00h00   :      dj.NA                  ( Hard techno)\n                2h00     :        dj.Princest opiate    ( Hardcore )\n                4h00     :   dj.seismik  VS  dj.sickness\n                6h00     :   dj.mad-kiloz   VS  dj.moebius\n                8h00     :                     dj.Mickos\n                9h30     :     dj.Dejeepee              ( Thecno )\n                11h00   :                      FIN
CLASS:PUBLIC
CATEGORIES:
STATUS:CONFIRMED
PARTSTAT:ACCEPTED
END:VEVENT
END:VCALENDAR
