BEGIN:VCALENDAR
PRODID:RAVE.CA V17.0
X-WR-CALNAME:Wonderland 2
X-ORIGINAL-URL:https://www.rave.ca/event/33439/
VERSION:2.0
CALSCALE:GREGORIAN
METHOD:PUBLISH
BEGIN:VEVENT
DTSTAMP:20091105T180334Z
LAST-MODIFIED:20091105T180334Z
CREATED:20090917T123749Z
SEQUENCE:33439
ORGANIZER:Unknown
DTSTART:20091120T220000Z
DTEND:20091121T090000Z
UID:event_33439@rave.ca
SUMMARY:Wonderland 2
LOCATION:Unknown
URL:https://www.rave.ca/event/33439/
DESCRIPTION:Clandestine lab vous présente:\n\n----WONDERLAND 2----\n\n\nPsychédélique\, loufoque et irréel\, voilà trois mots qui résume bien wonderland 1. Pour ce deuxième volet de la saga wonderland\, nous vous proposons une approche différente\, mais tout aussi tordu. Notre sélection d'artiste composée de Fm Radio Gods\, ekoplex et plusieurs autres ainsi qu'une décoration des plus fascinante vous ferons vivre une expérience hors du commun. La techno\, la psy trance et la prog seront mise à l'honneur.\nNous vous avons préparer un system de son très puissant ainsi qu'un setup d'effet visuel renversant.\nTout pour satisfaire les fan accomplis de musique électronique et même les acolytes. Donc je vous invite à nous rejoindre le 20 novembre pour célébrer cette événement nommé Wonderland 2!\n\n\nCet événement culturel a pour but d'élargir la scène globale de musique électronique. Notre événement est situé dans les Laurentides à environs 30 minutes du centre-ville de Montréal.\n\n===Line up===\n\nRoom 1:(Techno\,Psy trance\,prog)\n\nIHY // 10h00 (Nass El Rahil/Nomadstribe)\nFM RADIO GODS LIVE //11h30 (Attitude Records\,Akarien.com)\nVEZPER // 1h00 (www.clandestinelab.com)\nPSYCHOTIK // 2h30 (D-A-R-K records\,Chaos prod)\nEKOPLEX LIVE // 4h00 ( Ektoplazm.com/Toronto )\nYGREGIA // 6h00 (Travel spirits)\nANIMA // 7h30 (Oui-R1\,FilthyCrew)\n\nVJ SET PAR AMADEUS\n\n****Décorations et autres****\n\n-Psyspace (psyspacedeco@live.ca)\n-Julien seyers (Montréal)\n\n****Kiosques et autres****\n\npsychoBar (chaos prod)\nBar de rafraichissement\nGlow product\n(Si vous voulez représenter un kiosque contactez-nous à info@clandestinelab.com)\n\n-----Tarifs-----\nPour nous aider dans la réalisation de notre projet nous demandons une collaborations en argent.(Notre objectif n'est pas de faire des profits\, mais bien de promouvoir la culture de la musique électronique.)\n\nBillets: 15$\nÀ la porte:20$ (Si disponible\, car place limitée.)\n\nPoints de vente des billets:\n\nRégion des Laurentides:\nChanvre du nord (38 de Martigny EST St-Jérôme)\n\nRégion de Montréal:\nPsychonaut (154 Prince Arthur EST Montréal)\n\n\nDirection a partir de Montréal:\n-Prendre l'autoroute 15 NORD\n-Prendre la sortie 39\n-A la lumières tournez à gauche sur rt.158 (route sir wilfrid laurier)\n-A 1.4KM la batiste se situe à la gauche.\n\nInfo @ www.clandestinelab.com\ntel:(450)660-4914\nEmail: info@clandestinelab.com\n\n\nP.L.U.R!
CLASS:PUBLIC
CATEGORIES:
STATUS:CONFIRMED
PARTSTAT:ACCEPTED
END:VEVENT
END:VCALENDAR
