BEGIN:VCALENDAR
PRODID:RAVE.CA V17.0
X-WR-CALNAME:Dilemn À Montréal
X-ORIGINAL-URL:https://www.rave.ca/event/33350/
VERSION:2.0
CALSCALE:GREGORIAN
METHOD:PUBLISH
BEGIN:VEVENT
DTSTAMP:20091109T141403Z
LAST-MODIFIED:20091109T141403Z
CREATED:20090912T101631Z
SEQUENCE:33350
ORGANIZER:Cruz Control
DTSTART:20091114T210000Z
DTEND:20091115T080000Z
UID:event_33350@rave.ca
SUMMARY:Dilemn À Montréal
LOCATION:Theatre Sans-Fil
URL:https://www.rave.ca/event/33350/
DESCRIPTION:WeaveWorld en association avec Cruz Control et Urban Beatsters présentent le 14 novembre 2009 à Montréal :\n\nDILEMN (Boxon / Turbo / Boysnoize / Hardcore beats) Live set (FR)\n\nCe jeune toulousain est dans une période faste. Ses productions audacieuses lui valent d'être signé sur des labels prestigieux tel que Turbo ou Boysnoize.\n\nAujourd'hui Dilemn est très sollicité sur la scène électro internationale et il n'est pas rare de le voir dans le top 10 des meilleures ventes digitales.\n\nA ses côtés se retrouveront plus de 25 artistes locaux réunis sous forme de ''tag team'' (2 DJs + 1 VJ)\n\n# 09PM _ ARCHIBALD SINGLETON + IVANN + VJ MEUH (Pompes Tes Pipes. Foulab. Live down tempo)\n\n# 10PM _ VJ OUANANICHE (Poissons morts. Live Audio Video)\n\n# 11PM _ BASSIC + PLAN C + VJS ATHANORE (Twisted bass. Mix Drum N Bass)\n\n# 00AM _ BREAKING BROTHERS + VJ RYAN STEC (Planet Break. Mix Nu-Skool Break)\n\n# 01AM _ BANDITOS + YANKAT + VJ MA’’ (Quadbyte rec. Cruz Control. Live Electro Techno)\n\n# 02AM _ DILEMN + VJ MA’’ + HPNOTIK\n\n# 04AM _ OMNI + ZED AKSIS + VJ HOMING (Akarien prod. Mix Electro Techno)\n\n# 05AM _ TENZIN + YANN + VJ CAFRINE (Tech Safari. Mix Progressive)\n\n# 06AM _ KASDAL + HPNOTIK (Cruz Control. Mix Techno)\n\n# 07AM _ COSMIC ORGASM + VJ FAUST (Live Psy-Trance)\n\nUne seconde salle\, ayant pour but de promouvoir les différents artistes locaux\, vous réserve de nombreuses surprises visuelles.\n\nUne production WeaveWorld “Le Royaumes des Devins”\, une piece de théatre basée sur le livre de Clive Barker avec des marionettes géantes créées et mises en scène par le Théatre Sans Fil.\n\n20$ a la porte.\nPréventes disponibles chez psychonaut (154 Prince Arthur Est) au prix de 15$.\n\n\nRendez-vous le 14 novembre !\n\nEcoutez les demos sur notre site :\nhttp://cruzcontrol.org/dilemn\n\ninfo@cruzcontrol.org
CLASS:PUBLIC
CATEGORIES:
STATUS:CONFIRMED
PARTSTAT:ACCEPTED
END:VEVENT
END:VCALENDAR
