BEGIN:VCALENDAR
PRODID:RAVE.CA V17.0
X-WR-CALNAME:Casse-Noisette
X-ORIGINAL-URL:https://www.rave.ca/event/33230/
VERSION:2.0
CALSCALE:GREGORIAN
METHOD:PUBLISH
BEGIN:VEVENT
DTSTAMP:20091111T194039Z
LAST-MODIFIED:20091111T194039Z
CREATED:20090906T132734Z
SEQUENCE:33230
ORGANIZER:Unknown
DTSTART:20091212T210000Z
DTEND:20091212T210000Z
UID:event_33230@rave.ca
SUMMARY:Casse-Noisette
LOCATION:Salle Wilfrid-Pelletier
URL:https://www.rave.ca/event/33230/
DESCRIPTION:
CLASS:PUBLIC
CATEGORIES:
STATUS:CONFIRMED
PARTSTAT:ACCEPTED
END:VEVENT
END:VCALENDAR
