BEGIN:VCALENDAR
PRODID:RAVE.CA V17.0
X-WR-CALNAME:Black Ox Orkestar, Elizabeth Anka Vajagic
X-ORIGINAL-URL:https://www.rave.ca/event/3304/
VERSION:2.0
CALSCALE:GREGORIAN
METHOD:PUBLISH
BEGIN:VEVENT
DTSTAMP:20040524T000000Z
LAST-MODIFIED:20040524T000000Z
CREATED:20040524T000000Z
SEQUENCE:3304
ORGANIZER:Unknown
DTSTART:20040623T000000Z
DTEND:20040623T000000Z
UID:event_3304@rave.ca
SUMMARY:Black Ox Orkestar\, Elizabeth Anka Vajagic
LOCATION:Sala Rossa\, La
URL:https://www.rave.ca/event/3304/
DESCRIPTION:
CLASS:PUBLIC
CATEGORIES:
STATUS:CONFIRMED
PARTSTAT:ACCEPTED
END:VEVENT
END:VCALENDAR
