BEGIN:VCALENDAR
PRODID:RAVE.CA V17.0
X-WR-CALNAME:Monday @ The Mountain
X-ORIGINAL-URL:https://www.rave.ca/event/32978/
VERSION:2.0
CALSCALE:GREGORIAN
METHOD:PUBLISH
BEGIN:VEVENT
DTSTAMP:20090907T133044Z
LAST-MODIFIED:20090907T133044Z
CREATED:20090901T144854Z
SEQUENCE:32978
ORGANIZER:Renegade Legion
DTSTART:20090907T150000Z
DTEND:20090907T150000Z
UID:event_32978@rave.ca
SUMMARY:Monday @ The Mountain
LOCATION:Unknown
URL:https://www.rave.ca/event/32978/
DESCRIPTION:With rain protection!
CLASS:PUBLIC
CATEGORIES:
STATUS:CONFIRMED
PARTSTAT:ACCEPTED
END:VEVENT
END:VCALENDAR
