BEGIN:VCALENDAR
PRODID:RAVE.CA V17.0
X-WR-CALNAME:Latextacy
X-ORIGINAL-URL:https://www.rave.ca/event/32963/
VERSION:2.0
CALSCALE:GREGORIAN
METHOD:PUBLISH
BEGIN:VEVENT
DTSTAMP:20090828T134327Z
LAST-MODIFIED:20090828T134327Z
CREATED:20090828T133905Z
SEQUENCE:32963
ORGANIZER:Unknown
DTSTART:20090905T210000Z
DTEND:20090906T030000Z
UID:event_32963@rave.ca
SUMMARY:Latextacy
LOCATION:Le Medley
URL:https://www.rave.ca/event/32963/
DESCRIPTION:Le Gand Bal LATEXTACY vous en fait voir de toutes les couleurs et de tous les styles. Celui-ci attire des adeptes\, artistes et designers venant de partout dans le monde\n\nUn tour de force qui débute avec une présentation mode (22 h 30) avec Vile Design\, Fierce Couture\, Baby Loves Latex\, Latex Nemesis & plusieurs autres.\n\nSpectacles avec Jean Bardot\, Mistress Lucrezia\, Madeleine Horn. The Richard sera l'hôte de la soirée.\n\nGoûtez aux divers plaisirs de la mode « latex » avec animations et stations thématiques alors que DJs Miss Lydie\, Xris Smack! et Cytotoxik donne le ton musical de cet envol interstellaire où vous pourrez explorer vos fantaisies librement!\n\nLatextacy aime aussi le cuir\, la lingerie et le vinyle et le cosplay! Voyez ce que les gens y portent!
CLASS:PUBLIC
CATEGORIES:
STATUS:CONFIRMED
PARTSTAT:ACCEPTED
END:VEVENT
END:VCALENDAR
