BEGIN:VCALENDAR
PRODID:RAVE.CA V17.0
X-WR-CALNAME:Dff: Back To &#039;hard&#039; School!!
X-ORIGINAL-URL:https://www.rave.ca/event/32891/
VERSION:2.0
CALSCALE:GREGORIAN
METHOD:PUBLISH
BEGIN:VEVENT
DTSTAMP:20090825T123633Z
LAST-MODIFIED:20090825T123633Z
CREATED:20090825T123436Z
SEQUENCE:32891
ORGANIZER:Unknown
DTSTART:20090912T210000Z
DTEND:20090913T020000Z
UID:event_32891@rave.ca
SUMMARY:Dff: Back To 'hard' School!!
LOCATION:Unknown
URL:https://www.rave.ca/event/32891/
DESCRIPTION:DFF kicks off it's 3rd year (holy crap!)\, and it's time to go back to school!!\n\nBringing you back to school in the hardest of style\, (see what I did there?!?) we have 3 of our amazing DFF residents\, DJ Lushys as a local guest\, and a special out of town guest\, DJ Lockdown from Montreal's P.S.T Productions!!\n\nAs always we will have an art show\, CD giveaways\, visuals\, great sound and good friends!! All at an affordable price!! Come check out the Cock & Lion pub!! It's a super comfortable atmosphere\, with room for dancing\, sitting\, socializing and more!! There is even an outdoor patio where you can go smoke!! Lets not forget the most important part\, the Cock & Lion is the home of Ottawa's ONLY and LONGEST RUNNING hard dance event!!! Come experience the beatdown!! :D\n\nPeople are encourage to wear their best "Back to School" outfits for this one!!! :D\n\n\nLineup:\n\nDJ Lockdown - P.S.T Productions - Hardstyle/HardTek - Montreal\n\nDJ Lushys - Acid Trance/Oldschool\n\nToshiro - Trance/Hard Dance\n\nKrazyKhalid - Hardstyle/Hardcore\n\nTails - Hard Trance\n\nWith Art by Thabto & Guests\n\n\nSaturday\, Sept. 12th - 9:30 PM\nCock & Lion - 202 Sparks St.\n$6.00 B4 11:00 PM\n$8.00 After 11:00 PM\n19+ w/ID\n\nArt Show/Visuals/CD Giveaways/Great Music/Friends!!
CLASS:PUBLIC
CATEGORIES:
STATUS:CONFIRMED
PARTSTAT:ACCEPTED
END:VEVENT
END:VCALENDAR
