BEGIN:VCALENDAR
PRODID:RAVE.CA V17.0
X-WR-CALNAME:Bogota Partyyyy!
X-ORIGINAL-URL:https://www.rave.ca/event/32846/
VERSION:2.0
CALSCALE:GREGORIAN
METHOD:PUBLISH
BEGIN:VEVENT
DTSTAMP:20091207T101431Z
LAST-MODIFIED:20091207T101431Z
CREATED:20090819T004452Z
SEQUENCE:32846
ORGANIZER:Unknown
DTSTART:20091204T210000Z
DTEND:20091205T210000Z
UID:event_32846@rave.ca
SUMMARY:Bogota Partyyyy!
LOCATION:Unknown
URL:https://www.rave.ca/event/32846/
DESCRIPTION:
CLASS:PUBLIC
CATEGORIES:
STATUS:CONFIRMED
PARTSTAT:ACCEPTED
END:VEVENT
END:VCALENDAR
