BEGIN:VCALENDAR
PRODID:RAVE.CA V17.0
X-WR-CALNAME:Nineleven
X-ORIGINAL-URL:https://www.rave.ca/event/32744/
VERSION:2.0
CALSCALE:GREGORIAN
METHOD:PUBLISH
BEGIN:VEVENT
DTSTAMP:20090816T100946Z
LAST-MODIFIED:20090816T100946Z
CREATED:20090816T100800Z
SEQUENCE:32744
ORGANIZER:Unknown
DTSTART:20100911T210000Z
DTEND:20100912T090000Z
UID:event_32744@rave.ca
SUMMARY:Nineleven
LOCATION:Unknown
URL:https://www.rave.ca/event/32744/
DESCRIPTION:Cette soirée est la suite de NinEleven 2009\, cette belle nuit a fait fusionner quelques personne qui y était. Nous avons eu la sommes des gens visé soit de 75 personnes. Merci à tous ceux qui se sont déplacés.\ninvitez vos amis.\n\nJe vous invites donc à vous joindre comme une goutte de magma le 11 septembre 2010 pour nos fête. Vous aurez la chance d'entendre au courant de l'après-midi des prestations de dj dont la sonorité sera de saveurs techno diverse. Déjà l’encre commence à couler et les set up de musique sont en construction. Certain d'entre vous diront que je suis trop a l’avance mais je veux que le bouche à oreille fasse son chemin\, pour que cette soirée les gens présent seront des amis de des amis des amis !! Profitez-en ce projet me tient à cœur.\n\nDans la soirée nous aurons la chance d'entendre des artistes comme notre cher amis Zen\, Sin\, Ganesh\, Pixie et autres qui se sont exécutés au nineleve beta. Merci à vous tous pour ses mixes qui ont été entièrement gratuit. J'aimerais aussi dire un grand merci à Makinaw qui a faite une prestation surprise.\n\nPour célébrer mes 30ans\, j'ai décidé de nous gâter un peu avec la visite d'un israélien (de racine allemande) donc bien du monde connait dans le psy-mélodique. J'ai la chance de vous annoncé Vibe Tribe http://www.myspace.com/vibetribestudioun artiste qui à fait partit de la composition\, nous aurons droit à un dj set de plus de 2h Un nom qui n'est jamais passé par le canada: VIBETRIBE =) ) =) ) =)\n\nDonc j'aimerais vous faire profiter la chance unique de voir cet artiste et de partager ce moment avec mes précieux amis pour ma fête. Les prix des billets seront de 25$ jusqu'en avril après ils seront à 35$.\n\nDe plus\, seulement 350 personnes auront la chance de participer à l'évènement ainsi d'une quinzaine de dj locaux de la province du Québec. Le site est extraordinaire et la qualité des gens seront des plus énergétique comme elle l'a été cette année garantie.\n\nPourquoi me demandez-vous cette date?\n\n11 Septembre 2010\nNINELEVEN (9-11 project)\n\nSous le paradoxe du magma\, étant le centre de notre chère terre Gaya\, nous nous sommes inspirés du magma comme le centre qui énergise la planète toute entière.\n\nEn cette période de grands changements\, nous trouvons important de se rassembler\, peu importe nos convictions\, nos goûts\, notre âge... Nous devons éveiller en nous nos dons et activer nos capacités! Apprendre à connaître de nouvelles personnes nous amène à mieux nous connaître nous-même. L'énergie de groupe canalisée est si importante pour effectuer de grands changements.\n\nLe 11 septembre rappelle pour plusieurs l'attentat du WTC... Nous désirons transcender des énergies positives en cette date significative. Célébrons ensemble l'énergie de l'amour universelle et celle de l'équilibre de l'urbain vers la nature.\nVenez\, tel une goutte de magma\, fusionner avec nous sur le "dance floor". De plus\, nous tenons à souligner les 29 et 30 ans des chargés du projet 9-11. Nous espérons vous y voir en grand nombre!\n\n\nPrésentement les billets sont en vente au:\n\n•Québec\nPlatine 565 St-Jean (418)-622-3671\n\n•Montréal\nPsychonaut 154 rue Prince Arthur E (514)-844-8998\n\n•Sherbrooke\nL'arbre à palabre 147 Wellington Sud (819) 569-8776\n\n•NORML CLOTHING STORE\n184 Rideau Street\,Ottawa\, ON K1N 5X6 (613) 562-2043\n\n\nCertaines promotions entreront en vigueur pour les vendeurs mobiles 10 billets= un billets gratuit.\n\nLa simplicité sera du rendez-vous\,\n\nVenez vibrez avec nous\n\nCeux qui veulent en savoir plus :\n\nmagma911@live.fr\n\nwww.magma911.com\n\nEt brûle encore ....\n\nLa base de nos partys sont au niveau du bouches à oreilles\, le basic et la simplicité des vraies saveurs raves. Aidez nous à faire passer le mot\n\n\n\nhttp://www.youtube.com/watch?v=Gv3EOm938Gg\n\nhttp://www.youtube.com/watch?v=58ZFo3OgN70\n\nhttp://www.youtube.com/watch?v=QRZEHqEW1Pw\n\nhttp://www.youtube.com/watch?v=ss1UKq0s5p4\n\n\nEt brûle encore ....\nmagma911@live.fr
CLASS:PUBLIC
CATEGORIES:
STATUS:CONFIRMED
PARTSTAT:ACCEPTED
END:VEVENT
END:VCALENDAR
