BEGIN:VCALENDAR
PRODID:RAVE.CA V17.0
X-WR-CALNAME:Skinny Puppy
X-ORIGINAL-URL:https://www.rave.ca/event/32642/
VERSION:2.0
CALSCALE:GREGORIAN
METHOD:PUBLISH
BEGIN:VEVENT
DTSTAMP:20090911T182901Z
LAST-MODIFIED:20090911T182901Z
CREATED:20090811T124220Z
SEQUENCE:32642
ORGANIZER:Unknown
DTSTART:20091114T200000Z
DTEND:20091114T233000Z
UID:event_32642@rave.ca
SUMMARY:Skinny Puppy
LOCATION:Club Soda
URL:https://www.rave.ca/event/32642/
DESCRIPTION:
CLASS:PUBLIC
CATEGORIES:
STATUS:CONFIRMED
PARTSTAT:ACCEPTED
END:VEVENT
END:VCALENDAR
