BEGIN:VCALENDAR
PRODID:RAVE.CA V17.0
X-WR-CALNAME:La Nuit Blanche
X-ORIGINAL-URL:https://www.rave.ca/event/326/
VERSION:2.0
CALSCALE:GREGORIAN
METHOD:PUBLISH
BEGIN:VEVENT
DTSTAMP:20040210T000000Z
LAST-MODIFIED:20040210T000000Z
CREATED:20010413T000000Z
SEQUENCE:326
ORGANIZER:Unknown
DTSTART:20010413T000000Z
DTEND:20010413T000000Z
UID:event_326@rave.ca
SUMMARY:La Nuit Blanche
LOCATION:Aria\, Afterhours
URL:https://www.rave.ca/event/326/
DESCRIPTION:
CLASS:PUBLIC
CATEGORIES:
STATUS:CONFIRMED
PARTSTAT:ACCEPTED
END:VEVENT
END:VCALENDAR
