BEGIN:VCALENDAR
PRODID:RAVE.CA V17.0
X-WR-CALNAME:Ntk - Tekno Outdoor Party !
X-ORIGINAL-URL:https://www.rave.ca/event/31989/
VERSION:2.0
CALSCALE:GREGORIAN
METHOD:PUBLISH
BEGIN:VEVENT
DTSTAMP:20090809T172730Z
LAST-MODIFIED:20090809T172730Z
CREATED:20090730T134338Z
SEQUENCE:31989
ORGANIZER:Neurotik Sound  System
DTSTART:20090807T210000Z
DTEND:20090808T120000Z
UID:event_31989@rave.ca
SUMMARY:Ntk - Tekno Outdoor Party !
LOCATION:NTK place
URL:https://www.rave.ca/event/31989/
DESCRIPTION:A la demande générale\, neurotik reprend ses quartiers d'été avec une soirée GROS BEAT SALE parce que C'EST PLUS COMME AVANT :)\n\n100% NTK\, 100% HARD\, 100% CAPUCHE NOIR TOUTE LA NUIT !!!\nGUEST AND PUMP IT UP TOUTE LA JOURNÉE !!!\n\nAlors finis les conneries...pluie pas pluie il va y avoir du beat !!!\nneurotik and friends vous convie à faire la fête par dessus la tête et a revenir dans l'bon vieux temps !\n\nNIGHT/NUIT: 100% capuche noir !\nTRIBE /// HARDTEKNO /// HARDCORE /// FULL ON\n\nDAY/JOUR: 100% T-shirt fluo !\nELECTRO /// BREAK //// TEKNO /// FIDJET
CLASS:PUBLIC
CATEGORIES:
STATUS:CONFIRMED
PARTSTAT:ACCEPTED
END:VEVENT
END:VCALENDAR
