BEGIN:VCALENDAR
PRODID:RAVE.CA V17.0
X-WR-CALNAME:Boo 2
X-ORIGINAL-URL:https://www.rave.ca/event/3194/
VERSION:2.0
CALSCALE:GREGORIAN
METHOD:PUBLISH
BEGIN:VEVENT
DTSTAMP:20040522T000000Z
LAST-MODIFIED:20040522T000000Z
CREATED:20040522T000000Z
SEQUENCE:3194
ORGANIZER:Synergy Canada
DTSTART:20021102T010000Z
DTEND:20021102T010000Z
UID:event_3194@rave.ca
SUMMARY:Boo 2
LOCATION:Stout Brothers
URL:https://www.rave.ca/event/3194/
DESCRIPTION:Time has gone by and finally you think you'll be able to put to rest the memories of that frightful night. Perhaps it is truly over\, and you're safe now! But just when you've finally started to move on\, IT COMES BACK!!! Ottawa's wildest\, craziest\, stupidest\, most fucked Halloween party has returned : BOO 2 is here!\nWe've got everything that makes Halloween great: Candy\, Costumes\, tons of sound\, candy\, lights\, lasers\, candy\, and of course more candy! This is THE ONLY TRUE Halloween rave going on this year - EVERYONE is dressing up\, and the decorations will simply be OFF THE HOOK. If you can't make it to this event\, you might as well kill yourself you big goddamn loser!\n\n\nROOM1 - TRANCE TECHNO HARDCORE\n\n\nSUBSONIC CHRONIC (Hullabaloo\, ATM\, Toronto - NU-NRG Trance)\nAn Ottawa favorite returns to lay down the spookiest\, danciest\, trance this side of reality. A staple at Toronto's infamous Hullabaloo parties\, this man has been exploring new and dark sounds for the past 5 years.\n\n\nMOBIUS LIVE PERFORMANCE (World Premiere\, Dynamix\, NUEnergy Records UK - Evil Hard Trance)\nFor those who don't know\, Roy is mild mannered producer by day\, evil hard trance demon by night. The man who engineered Lou Cypher Project's twisted sounds comes at us with his own set of brand new material for his first ever live performance. If you were at Overload\, then at least you'll be somewhat prepared!\n\n\nBELLADONNAKILLZ (Industrial Strength\, SMERK - Fucking Hardcore)\nAt the forefront of toronto's new hardcore empire stands Belladonnakillz aka The Marquis. With releases forthcoming on Industrial Strength and an entire city watching for his every performance\, we're sure that Belladonnakillz will hit Ottawa like a steel toe boot to the face!\n\n\nELIXIR (Hullabaloo\, Dynamix\, WTF Toronto - Straight up Trance)\nAnother bad boy from Hullabaloo\, expect the unexpected when Elixir hits the decks. Taking some time out of his busy production schedule\, he'll be playing some of his own material\, which is already signed to one of the UK's top hard trance labels!\n\n\naONE (Out of Boundz\, Montreal - Happy Hardcore)\nA taste of Montreal's underground happycore scene is just what the doctor ordered for this Halloween. aOne has been converting kids to the kandy side for a long time\, and now he's coming to spread his infektion here!\n\n\nLocals:\n\n\nCOFFEE MAN (Trancecore)\nGRAHAM J (Techno)\nDOC SAVAGE (Epic Trance)\nMIKE JAMES (Tech-Trance)\nS.I.N. (Energy Trance)\nEFM-7 LIVE PA (Trance)\nTAMERAX (Dark Dutch Penis Trance)\n\n \n\nROOM2 - JUNGLE BREAKS BOOTY\n\n\nKINETIC & MC STRYKA (Furious Records\, Intimate Productions\, Shadowbass Toronto - Drum & Bass)\nThese two bad boys have been making the rounds in Toronto for some time. Between Kinetic's hard and fast beats and Stryka's lyrical mastery\, you'll be dancing your ass off for sure!\n\n\nD-REGION (Jedi Records\, Furious Records Toronto - Jungle)\nAn amazing dj\, and an even better producer. D-Region has been doing some serious dubplate damage around his hometown\, and we're excited to bring him to Ottawa to showcase his mad talent!\n\n\nMC P (Lyrical Devestatah\, Toronto)\nRounding it off is a very special master of ceremonies\, MC P. He'll be putting you through the paces and working the crowd up over the night\, ensuring proper bo'ing is in effect for Boo 2\n\n\nLOCALS: \nRAYAZ (Ragga Jungle)\nSPEAKER PHREAKER (Special Last Call Booty Set)\nDZK (Morning Breaks)\nPHAETON (Drum & Bass)\nPDP (Jungle)\nJAZZYBASS (Jazzy Jungle)\nMC SPAZTEK\nMC E=MC\n\n\nFEATURES:\n-Brand new never before used venue 10 minutes from downtown! \n-2 rooms of spooky music and a third 19+ room for all the big kids who their candy poisoned! \n-Enclosed patio for those who wish to work on getting cancer in warmth and comfort.\n-CONTESTS for best\, sexiest\, and funniest costume. \n-Free candy and trick or treating for all dressed up in the spirit of Halloween. \n-All of our amazing performers will be in full costume!\n-Mad decorations the likes of which you've never seen before\n-A huge party full of smiling faces and amazing vibe!\nTickets $24 in advance\, $35 at the door if available\nAvailable at NORML and One Unity. \nIn Gatineau at Epoch in the Promenades de L'Outaouais\nIn Kanata at Records on Wheels in the Hazeldean Mall\nFor more information\, go to <http://synergy.xvi.com> in a day or two\nOr call our infoline on the day of for location information and directions \n<http://synergy.xvi.com>\n613.940.1384\n\n \n
CLASS:PUBLIC
CATEGORIES:
STATUS:CONFIRMED
PARTSTAT:ACCEPTED
END:VEVENT
END:VCALENDAR
