BEGIN:VCALENDAR
PRODID:RAVE.CA V17.0
X-WR-CALNAME:Black Magik
X-ORIGINAL-URL:https://www.rave.ca/event/31854/
VERSION:2.0
CALSCALE:GREGORIAN
METHOD:PUBLISH
BEGIN:VEVENT
DTSTAMP:20100118T134002Z
LAST-MODIFIED:20100118T134002Z
CREATED:20090716T152655Z
SEQUENCE:31854
ORGANIZER:Creature
DTSTART:20100116T220000Z
DTEND:20100117T080000Z
UID:event_31854@rave.ca
SUMMARY:Black Magik
LOCATION:3081 Ontario Est.\, (l'entré est situé sur la rue Moreau\, la salle est au dernier étage)\, station de metro Préfontaine ou Frontenac
URL:https://www.rave.ca/event/31854/
DESCRIPTION:Black Magik broke new ground last year and we beyond sold out a wicked cool loft just south of downtown. This year\, prepare yourself for something ill\, something wicked\, something Magik.\n\nFeaturing Djs\n\n-Br34th3 (Canada\, Quebec\, Montreal) - Phonolite\, Nexus Media\, Vision\n-Plan B (Canada\, Ontario\, Toronto) - Shakti Collective\n-Anima (Canada\, Quebec\, Montreal) - Oui-R1\, FilthyCrew\n-Hexa-5 (Canada\, Quebec\, Montreal) - Prism Code\, Freak Addiction Krew\n-Psydraulix (Canada\, Quebec\, Montreal) - Creature Productions\, Jester Records\n-Virtual Light (Canada\, Ontario\, Ottawa) - Prism Code\, Geomagnetic TV\n\nTickets:\nJanuary - 15$\nDoor - 25$ (15$ for out of towners with ID)\n\nTickets are available at Psychonaut 154 Prince Arthur\n\nINFOLINE: 514 318 4200\n\ncreatureproductions@gmail.com
CLASS:PUBLIC
CATEGORIES:
STATUS:CONFIRMED
PARTSTAT:ACCEPTED
END:VEVENT
END:VCALENDAR
