BEGIN:VCALENDAR
PRODID:RAVE.CA V17.0
X-WR-CALNAME:Progressiva: Gabriel Batz
X-ORIGINAL-URL:https://www.rave.ca/event/30857/
VERSION:2.0
CALSCALE:GREGORIAN
METHOD:PUBLISH
BEGIN:VEVENT
DTSTAMP:20090630T172403Z
LAST-MODIFIED:20090630T172403Z
CREATED:20090630T172315Z
SEQUENCE:30857
ORGANIZER:Ora Recordings
DTSTART:20090717T220000Z
DTEND:20090718T030000Z
UID:event_30857@rave.ca
SUMMARY:Progressiva: Gabriel Batz
LOCATION:Passeport\, Club
URL:https://www.rave.ca/event/30857/
DESCRIPTION:Ora Recordings and Le Passeport present "Progressiva" fridays. 100% progressive house and deep trance sounds on the menu.\n\nThe night is the brainchild of Montreal's own Gabriel Batz. He will be the night's main resident and will have some of the city's best progressive djs as guests every week.\n\nAs a producer\, Gabriel has produced music for some of the worlds finest trance labels such as Armada Music label\, Anjunabeats\, Coldharbour Recordings\, Club-Elite Recordings and since 2007 runs his own label Ora Recordings.\n\nHis tracks have regularly appeared on the tracklists of some of the world's biggest dj's such as Tiesto\, Armin Van Buuren\, Above & Beyond\, Markus Schulz\, Alex M.O.R.P.H.\, M.I.K.E. and Andy Moor to name a few.\n\nAs a dj\, he has played at many of the biggest clubs and after-hours in the city such as Aria\, Tribe\, Circus\, 1234\, Red-Lite\, Stereo and has headlined events in Europe and Central America.\n\nBe sure to check out "Progressiva" every friday. \nDon't miss it!
CLASS:PUBLIC
CATEGORIES:
STATUS:CONFIRMED
PARTSTAT:ACCEPTED
END:VEVENT
END:VCALENDAR
