BEGIN:VCALENDAR
PRODID:RAVE.CA V17.0
X-WR-CALNAME:Dominic B, Steve Austin, Michel Simard
X-ORIGINAL-URL:https://www.rave.ca/event/3056/
VERSION:2.0
CALSCALE:GREGORIAN
METHOD:PUBLISH
BEGIN:VEVENT
DTSTAMP:20041005T000000Z
LAST-MODIFIED:20041005T000000Z
CREATED:20040520T000000Z
SEQUENCE:3056
ORGANIZER:Unknown
DTSTART:20040408T000000Z
DTEND:20040408T000000Z
UID:event_3056@rave.ca
SUMMARY:Dominic B\, Steve Austin\, Michel Simard
LOCATION:Redlite
URL:https://www.rave.ca/event/3056/
DESCRIPTION:
CLASS:PUBLIC
CATEGORIES:
STATUS:CONFIRMED
PARTSTAT:ACCEPTED
END:VEVENT
END:VCALENDAR
