BEGIN:VCALENDAR
PRODID:RAVE.CA V17.0
X-WR-CALNAME:The Beet Harvest
X-ORIGINAL-URL:https://www.rave.ca/event/30279/
VERSION:2.0
CALSCALE:GREGORIAN
METHOD:PUBLISH
BEGIN:VEVENT
DTSTAMP:20091023T125324Z
LAST-MODIFIED:20091023T125324Z
CREATED:20090608T150314Z
SEQUENCE:30279
ORGANIZER:Tekno Agricole Sound6Tem
DTSTART:20091023T220000Z
DTEND:20091024T080000Z
UID:event_30279@rave.ca
SUMMARY:The Beet Harvest
LOCATION:Unknown
URL:https://www.rave.ca/event/30279/
DESCRIPTION:TEKNO AGRICOLE PARTY !!! THE BEET HARVEST !!!\n\nL'été est fini et c'est le temps de la récolte !!! BAM BAM BAM !!! Ca va peter !!!\n\nN'oubliez pas d'apporter votre serviette !!!\nDon't forget to bring a towel !!!
CLASS:PUBLIC
CATEGORIES:
STATUS:CONFIRMED
PARTSTAT:ACCEPTED
END:VEVENT
END:VCALENDAR
