BEGIN:VCALENDAR
PRODID:RAVE.CA V17.0
X-WR-CALNAME:Full Moon Party!
X-ORIGINAL-URL:https://www.rave.ca/event/29988/
VERSION:2.0
CALSCALE:GREGORIAN
METHOD:PUBLISH
BEGIN:VEVENT
DTSTAMP:20090810T173717Z
LAST-MODIFIED:20090810T173717Z
CREATED:20090521T011626Z
SEQUENCE:29988
ORGANIZER:Renegade Legion
DTSTART:20090808T230000Z
DTEND:20090809T100000Z
UID:event_29988@rave.ca
SUMMARY:Full Moon Party!
LOCATION:Location In The Extras Section
URL:https://www.rave.ca/event/29988/
DESCRIPTION:Industrial Party!!!
CLASS:PUBLIC
CATEGORIES:
STATUS:CONFIRMED
PARTSTAT:ACCEPTED
END:VEVENT
END:VCALENDAR
