BEGIN:VCALENDAR
PRODID:RAVE.CA V17.0
X-WR-CALNAME:Deep Dish
X-ORIGINAL-URL:https://www.rave.ca/event/2989/
VERSION:2.0
CALSCALE:GREGORIAN
METHOD:PUBLISH
BEGIN:VEVENT
DTSTAMP:20040519T000000Z
LAST-MODIFIED:20040519T000000Z
CREATED:20040519T000000Z
SEQUENCE:2989
ORGANIZER:Unknown
DTSTART:20031231T000000Z
DTEND:20031231T000000Z
UID:event_2989@rave.ca
SUMMARY:Deep Dish
LOCATION:Aria\, Afterhours
URL:https://www.rave.ca/event/2989/
DESCRIPTION:The official lineup for NYE at Aria is here\, be prepared for an extravaganza of house music\, everything from progressive\, funky\, tech to tribal.
CLASS:PUBLIC
CATEGORIES:
STATUS:CONFIRMED
PARTSTAT:ACCEPTED
END:VEVENT
END:VCALENDAR
