BEGIN:VCALENDAR
PRODID:RAVE.CA V17.0
X-WR-CALNAME:Night Vision Turns 30!
X-ORIGINAL-URL:https://www.rave.ca/event/29761/
VERSION:2.0
CALSCALE:GREGORIAN
METHOD:PUBLISH
BEGIN:VEVENT
DTSTAMP:20090511T101737Z
LAST-MODIFIED:20090511T101737Z
CREATED:20090511T101049Z
SEQUENCE:29761
ORGANIZER:When Music Speaks
DTSTART:20090517T213000Z
DTEND:20090518T033000Z
UID:event_29761@rave.ca
SUMMARY:Night Vision Turns 30!
LOCATION:XOtika\, 1466 Crescent
URL:https://www.rave.ca/event/29761/
DESCRIPTION:NIGHT VISION (House)\nDJ BLAZE (RnB\, Hip-Hop\, Reggae)\n\nJe vous invite tous et toutes à venir célébrer mes 30 ans! au superbe Club XOtika\, 1466 Crescent\, Montréal\n\nYou are all invited to my 30 years old PARTY!!!!! At beautiful XOtika on Crescent (1466) Downtown Montreal
CLASS:PUBLIC
CATEGORIES:
STATUS:CONFIRMED
PARTSTAT:ACCEPTED
END:VEVENT
END:VCALENDAR
