BEGIN:VCALENDAR
PRODID:RAVE.CA V17.0
X-WR-CALNAME:A Voice Of The Underground
X-ORIGINAL-URL:https://www.rave.ca/event/29327/
VERSION:2.0
CALSCALE:GREGORIAN
METHOD:PUBLISH
BEGIN:VEVENT
DTSTAMP:20090501T231243Z
LAST-MODIFIED:20090501T231243Z
CREATED:20090430T192128Z
SEQUENCE:29327
ORGANIZER:Deadna Productions
DTSTART:20090501T020000Z
DTEND:20090501T070000Z
UID:event_29327@rave.ca
SUMMARY:A Voice Of The Underground
LOCATION:Unknown
URL:https://www.rave.ca/event/29327/
DESCRIPTION:RADIO show! Airs the first Friday night of every month @ 102.3 FM on the dial\, out of Montreal\, or @ radiocentreville.com on the 'net. Starts @ 2:00 am (Friday night) and ends @ 7:30 am (Saturday morning).\n\nMusic: an unrestricted variety of Hardcore and related: old & new hardcore\, speedcore\, terrorcore\, doomcore\, breakcore\, hardtechno\, industrial\, noise\, d'n'b\, etc. ... and flowing into hardtech\, tech\, psy\, electro\, big beat\, trip hop\, etc. in the morning.\n\nHost/Resident Dj: Nā\n\nGuest Dj: Sickness!\n\n...\n\nTune In/Freak Out
CLASS:PUBLIC
CATEGORIES:
STATUS:CONFIRMED
PARTSTAT:ACCEPTED
END:VEVENT
END:VCALENDAR
