BEGIN:VCALENDAR
PRODID:RAVE.CA V17.0
X-WR-CALNAME:Festivus-Eve &#039;09
X-ORIGINAL-URL:https://www.rave.ca/event/29239/
VERSION:2.0
CALSCALE:GREGORIAN
METHOD:PUBLISH
BEGIN:VEVENT
DTSTAMP:20091227T074838Z
LAST-MODIFIED:20091227T074838Z
CREATED:20090426T194316Z
SEQUENCE:29239
ORGANIZER:Ravedave
DTSTART:20091226T210000Z
DTEND:20091227T063000Z
UID:event_29239@rave.ca
SUMMARY:Festivus-Eve '09
LOCATION:Unknown
URL:https://www.rave.ca/event/29239/
DESCRIPTION:Back for the 3rd year\, we are bringing you another intimate christmas party\, fun guaranteed!\n\nI know the date isn't the best this year\, but i hope most of you can come out and party with us!
CLASS:PUBLIC
CATEGORIES:
STATUS:CONFIRMED
PARTSTAT:ACCEPTED
END:VEVENT
END:VCALENDAR
