BEGIN:VCALENDAR
PRODID:RAVE.CA V17.0
X-WR-CALNAME:The Grill With T&#039;cha And Bliss
X-ORIGINAL-URL:https://www.rave.ca/event/29224/
VERSION:2.0
CALSCALE:GREGORIAN
METHOD:PUBLISH
BEGIN:VEVENT
DTSTAMP:20090424T023840Z
LAST-MODIFIED:20090424T023840Z
CREATED:20090424T022555Z
SEQUENCE:29224
ORGANIZER:Unknown
DTSTART:20021128T220000Z
DTEND:20021128T220000Z
UID:event_29224@rave.ca
SUMMARY:The Grill With T'cha And Bliss
LOCATION:Unknown
URL:https://www.rave.ca/event/29224/
DESCRIPTION:
CLASS:PUBLIC
CATEGORIES:
STATUS:CONFIRMED
PARTSTAT:ACCEPTED
END:VEVENT
END:VCALENDAR
