BEGIN:VCALENDAR
PRODID:RAVE.CA V17.0
X-WR-CALNAME:Connected 2001
X-ORIGINAL-URL:https://www.rave.ca/event/290/
VERSION:2.0
CALSCALE:GREGORIAN
METHOD:PUBLISH
BEGIN:VEVENT
DTSTAMP:20040405T000000Z
LAST-MODIFIED:20040405T000000Z
CREATED:20010317T010000Z
SEQUENCE:290
ORGANIZER:514 Productions
DTSTART:20010317T010000Z
DTEND:20010317T010000Z
UID:event_290@rave.ca
SUMMARY:Connected 2001
LOCATION:CEPSUM - University of Montreal\, 2100 Edouard Montpetit
URL:https://www.rave.ca/event/290/
DESCRIPTION:
CLASS:PUBLIC
CATEGORIES:
STATUS:CONFIRMED
PARTSTAT:ACCEPTED
END:VEVENT
END:VCALENDAR
