BEGIN:VCALENDAR
PRODID:RAVE.CA V17.0
X-WR-CALNAME:Christian Vogel, Yaz, Preach
X-ORIGINAL-URL:https://www.rave.ca/event/2868/
VERSION:2.0
CALSCALE:GREGORIAN
METHOD:PUBLISH
BEGIN:VEVENT
DTSTAMP:20040603T000000Z
LAST-MODIFIED:20040603T000000Z
CREATED:20040517T000000Z
SEQUENCE:2868
ORGANIZER:Unknown
DTSTART:20031114T000000Z
DTEND:20031114T000000Z
UID:event_2868@rave.ca
SUMMARY:Christian Vogel\, Yaz\, Preach
LOCATION:Aria\, Afterhours
URL:https://www.rave.ca/event/2868/
DESCRIPTION:
CLASS:PUBLIC
CATEGORIES:
STATUS:CONFIRMED
PARTSTAT:ACCEPTED
END:VEVENT
END:VCALENDAR
