BEGIN:VCALENDAR
PRODID:RAVE.CA V17.0
X-WR-CALNAME:Monster Bal
X-ORIGINAL-URL:https://www.rave.ca/event/28250/
VERSION:2.0
CALSCALE:GREGORIAN
METHOD:PUBLISH
BEGIN:VEVENT
DTSTAMP:20090315T094429Z
LAST-MODIFIED:20090315T094429Z
CREATED:20090315T094352Z
SEQUENCE:28250
ORGANIZER:Unknown
DTSTART:20090313T210000Z
DTEND:20090314T030000Z
UID:event_28250@rave.ca
SUMMARY:Monster Bal
LOCATION:Unknown
URL:https://www.rave.ca/event/28250/
DESCRIPTION:GROS party de la semaine Radical Queer\, au chat des artistes
CLASS:PUBLIC
CATEGORIES:
STATUS:CONFIRMED
PARTSTAT:ACCEPTED
END:VEVENT
END:VCALENDAR
