BEGIN:VCALENDAR
PRODID:RAVE.CA V17.0
X-WR-CALNAME:Les 21 Ans À Susie!
X-ORIGINAL-URL:https://www.rave.ca/event/28238/
VERSION:2.0
CALSCALE:GREGORIAN
METHOD:PUBLISH
BEGIN:VEVENT
DTSTAMP:20090314T072614Z
LAST-MODIFIED:20090314T072614Z
CREATED:20090314T072444Z
SEQUENCE:28238
ORGANIZER:Unknown
DTSTART:20090313T210000Z
DTEND:20090313T210000Z
UID:event_28238@rave.ca
SUMMARY:Les 21 Ans À Susie!
LOCATION:Passeport\, Club
URL:https://www.rave.ca/event/28238/
DESCRIPTION:
CLASS:PUBLIC
CATEGORIES:
STATUS:CONFIRMED
PARTSTAT:ACCEPTED
END:VEVENT
END:VCALENDAR
