BEGIN:VCALENDAR
PRODID:RAVE.CA V17.0
X-WR-CALNAME:XL, Maüs, Nic B
X-ORIGINAL-URL:https://www.rave.ca/event/2822/
VERSION:2.0
CALSCALE:GREGORIAN
METHOD:PUBLISH
BEGIN:VEVENT
DTSTAMP:20040517T000000Z
LAST-MODIFIED:20040517T000000Z
CREATED:20040517T000000Z
SEQUENCE:2822
ORGANIZER:Unknown
DTSTART:20031018T000000Z
DTEND:20031018T000000Z
UID:event_2822@rave.ca
SUMMARY:XL\, Maüs\, Nic B
LOCATION:Aria\, Afterhours
URL:https://www.rave.ca/event/2822/
DESCRIPTION:
CLASS:PUBLIC
CATEGORIES:
STATUS:CONFIRMED
PARTSTAT:ACCEPTED
END:VEVENT
END:VCALENDAR
