BEGIN:VCALENDAR
PRODID:RAVE.CA V17.0
X-WR-CALNAME:Armin Van Buuren
X-ORIGINAL-URL:https://www.rave.ca/event/2762/
VERSION:2.0
CALSCALE:GREGORIAN
METHOD:PUBLISH
BEGIN:VEVENT
DTSTAMP:20040602T000000Z
LAST-MODIFIED:20040602T000000Z
CREATED:20040511T000000Z
SEQUENCE:2762
ORGANIZER:Unknown
DTSTART:20040702T000000Z
DTEND:20040702T000000Z
UID:event_2762@rave.ca
SUMMARY:Armin Van Buuren
LOCATION:Aria\, Afterhours
URL:https://www.rave.ca/event/2762/
DESCRIPTION:woohoo trance rush at aria!\n\narmin coming back for his latest tour.
CLASS:PUBLIC
CATEGORIES:
STATUS:CONFIRMED
PARTSTAT:ACCEPTED
END:VEVENT
END:VCALENDAR
