BEGIN:VCALENDAR
PRODID:RAVE.CA V17.0
X-WR-CALNAME:Heaven 3ème Édition
X-ORIGINAL-URL:https://www.rave.ca/event/2760/
VERSION:2.0
CALSCALE:GREGORIAN
METHOD:PUBLISH
BEGIN:VEVENT
DTSTAMP:20070527T181122Z
LAST-MODIFIED:20070527T181122Z
CREATED:20040510T000000Z
SEQUENCE:2760
ORGANIZER:Productions H2O
DTSTART:20040910T000000Z
DTEND:20040910T000000Z
UID:event_2760@rave.ca
SUMMARY:Heaven 3ème Édition
LOCATION:Pullman Loft
URL:https://www.rave.ca/event/2760/
DESCRIPTION:Depuis les 4 dernières années\, l'équipe des Productions H2O on travaillé fort pour se bâtir une réputation.  Ayant toujours un seul et même but\, d'offrir à sa clientèle des événements de qualités tant en son\, lumières\, artistes et décors\, la 3ième Édition de HEAVEN vous revient sous la thématique bleu & blanc.  Sous le charme de la transe et de la techno\, nous vous invitons à venir festoyer avec les anges pour une nuit dont vous vous souviendrez longtemps!
CLASS:PUBLIC
CATEGORIES:
STATUS:CONFIRMED
PARTSTAT:ACCEPTED
END:VEVENT
END:VCALENDAR
