BEGIN:VCALENDAR
PRODID:RAVE.CA V17.0
X-WR-CALNAME:Cypress Hill
X-ORIGINAL-URL:https://www.rave.ca/event/2662/
VERSION:2.0
CALSCALE:GREGORIAN
METHOD:PUBLISH
BEGIN:VEVENT
DTSTAMP:20040524T000000Z
LAST-MODIFIED:20040524T000000Z
CREATED:20040504T000000Z
SEQUENCE:2662
ORGANIZER:Unknown
DTSTART:20040525T000000Z
DTEND:20040525T000000Z
UID:event_2662@rave.ca
SUMMARY:Cypress Hill
LOCATION:Dome
URL:https://www.rave.ca/event/2662/
DESCRIPTION:Cypress Hill @ Dome
CLASS:PUBLIC
CATEGORIES:
STATUS:CONFIRMED
PARTSTAT:ACCEPTED
END:VEVENT
END:VCALENDAR
