BEGIN:VCALENDAR
PRODID:RAVE.CA V17.0
X-WR-CALNAME:Tiesto, Mistress Barbara
X-ORIGINAL-URL:https://www.rave.ca/event/2652/
VERSION:2.0
CALSCALE:GREGORIAN
METHOD:PUBLISH
BEGIN:VEVENT
DTSTAMP:20040602T000000Z
LAST-MODIFIED:20040602T000000Z
CREATED:20040501T000000Z
SEQUENCE:2652
ORGANIZER:Unknown
DTSTART:20040611T000000Z
DTEND:20040611T000000Z
UID:event_2652@rave.ca
SUMMARY:Tiesto\, Mistress Barbara
LOCATION:Aria\, Afterhours
URL:https://www.rave.ca/event/2652/
DESCRIPTION:
CLASS:PUBLIC
CATEGORIES:
STATUS:CONFIRMED
PARTSTAT:ACCEPTED
END:VEVENT
END:VCALENDAR
