BEGIN:VCALENDAR
PRODID:RAVE.CA V17.0
X-WR-CALNAME:Rancid &amp; Rise Against
X-ORIGINAL-URL:https://www.rave.ca/event/26297/
VERSION:2.0
CALSCALE:GREGORIAN
METHOD:PUBLISH
BEGIN:VEVENT
DTSTAMP:20090306T183638Z
LAST-MODIFIED:20090306T183638Z
CREATED:20090306T183203Z
SEQUENCE:26297
ORGANIZER:Unknown
DTSTART:20090617T190000Z
DTEND:20090617T230000Z
UID:event_26297@rave.ca
SUMMARY:Rancid & Rise Against
LOCATION:Agora du vieux port
URL:https://www.rave.ca/event/26297/
DESCRIPTION:Un spectacle est d'abord prévu le 17 juin prochain\, à l'Agora du Vieux-Port\, à Québec. Un deuxième show aura lieu le 18 juin\, au Parc Jean-Drapeau\, à Montréal. \n\nla formation Riverboat Gamblers accompagnera également les deux groupes lors de leur passage au Québec.\n \nLes billets pour le concert de Québec seront mis en vente le vendredi 27 février\, dès 10 heures\, à la billetterie du Colisée Pepsi et dans le Réseau Billetech. Réservation : 418 691-7211 ou 1 800 900-SHOW. www.billetech.com ou www.geg.ca
CLASS:PUBLIC
CATEGORIES:
STATUS:CONFIRMED
PARTSTAT:ACCEPTED
END:VEVENT
END:VCALENDAR
