BEGIN:VCALENDAR
PRODID:RAVE.CA V17.0
X-WR-CALNAME:Ten Years of Freedom
X-ORIGINAL-URL:https://www.rave.ca/event/2628/
VERSION:2.0
CALSCALE:GREGORIAN
METHOD:PUBLISH
BEGIN:VEVENT
DTSTAMP:20040429T000000Z
LAST-MODIFIED:20040429T000000Z
CREATED:20040429T000000Z
SEQUENCE:2628
ORGANIZER:Unknown
DTSTART:20040505T000000Z
DTEND:20040505T000000Z
UID:event_2628@rave.ca
SUMMARY:Ten Years of Freedom
LOCATION:Sala Rossa\, La
URL:https://www.rave.ca/event/2628/
DESCRIPTION:
CLASS:PUBLIC
CATEGORIES:
STATUS:CONFIRMED
PARTSTAT:ACCEPTED
END:VEVENT
END:VCALENDAR
