BEGIN:VCALENDAR
PRODID:RAVE.CA V17.0
X-WR-CALNAME:Decemberists
X-ORIGINAL-URL:https://www.rave.ca/event/2622/
VERSION:2.0
CALSCALE:GREGORIAN
METHOD:PUBLISH
BEGIN:VEVENT
DTSTAMP:20040530T000000Z
LAST-MODIFIED:20040530T000000Z
CREATED:20040429T000000Z
SEQUENCE:2622
ORGANIZER:Blue Skies Turn Black
DTSTART:20040607T000000Z
DTEND:20040607T000000Z
UID:event_2622@rave.ca
SUMMARY:Decemberists
LOCATION:Sala Rossa\, La
URL:https://www.rave.ca/event/2622/
DESCRIPTION:
CLASS:PUBLIC
CATEGORIES:
STATUS:CONFIRMED
PARTSTAT:ACCEPTED
END:VEVENT
END:VCALENDAR
