BEGIN:VCALENDAR
PRODID:RAVE.CA V17.0
X-WR-CALNAME:The Grill With Tcha And Dj Bliss
X-ORIGINAL-URL:https://www.rave.ca/event/25232/
VERSION:2.0
CALSCALE:GREGORIAN
METHOD:PUBLISH
BEGIN:VEVENT
DTSTAMP:20090212T050408Z
LAST-MODIFIED:20090212T050408Z
CREATED:20090212T050401Z
SEQUENCE:25232
ORGANIZER:Unknown
DTSTART:20001019T220000Z
DTEND:20001019T220000Z
UID:event_25232@rave.ca
SUMMARY:The Grill With Tcha And Dj Bliss
LOCATION:Unknown
URL:https://www.rave.ca/event/25232/
DESCRIPTION:
CLASS:PUBLIC
CATEGORIES:
STATUS:CONFIRMED
PARTSTAT:ACCEPTED
END:VEVENT
END:VCALENDAR
