BEGIN:VCALENDAR
PRODID:RAVE.CA V17.0
X-WR-CALNAME:The Grill With Tcha And Dj Bliss
X-ORIGINAL-URL:https://www.rave.ca/event/25231/
VERSION:2.0
CALSCALE:GREGORIAN
METHOD:PUBLISH
BEGIN:VEVENT
DTSTAMP:20090212T050250Z
LAST-MODIFIED:20090212T050250Z
CREATED:20090212T050241Z
SEQUENCE:25231
ORGANIZER:Unknown
DTSTART:20001012T220000Z
DTEND:20001012T220000Z
UID:event_25231@rave.ca
SUMMARY:The Grill With Tcha And Dj Bliss
LOCATION:Unknown
URL:https://www.rave.ca/event/25231/
DESCRIPTION:
CLASS:PUBLIC
CATEGORIES:
STATUS:CONFIRMED
PARTSTAT:ACCEPTED
END:VEVENT
END:VCALENDAR
