BEGIN:VCALENDAR
PRODID:RAVE.CA V17.0
X-WR-CALNAME:Funk Shui With Dj Bliss
X-ORIGINAL-URL:https://www.rave.ca/event/25227/
VERSION:2.0
CALSCALE:GREGORIAN
METHOD:PUBLISH
BEGIN:VEVENT
DTSTAMP:20090212T031212Z
LAST-MODIFIED:20090212T031212Z
CREATED:20090212T031204Z
SEQUENCE:25227
ORGANIZER:Unknown
DTSTART:20070212T220000Z
DTEND:20070212T220000Z
UID:event_25227@rave.ca
SUMMARY:Funk Shui With Dj Bliss
LOCATION:Unknown
URL:https://www.rave.ca/event/25227/
DESCRIPTION:
CLASS:PUBLIC
CATEGORIES:
STATUS:CONFIRMED
PARTSTAT:ACCEPTED
END:VEVENT
END:VCALENDAR
