BEGIN:VCALENDAR
PRODID:RAVE.CA V17.0
X-WR-CALNAME:Amazone 7.0
X-ORIGINAL-URL:https://www.rave.ca/event/2517/
VERSION:2.0
CALSCALE:GREGORIAN
METHOD:PUBLISH
BEGIN:VEVENT
DTSTAMP:20040521T000000Z
LAST-MODIFIED:20040521T000000Z
CREATED:20040408T000000Z
SEQUENCE:2517
ORGANIZER:Tech Safari
DTSTART:20040522T000000Z
DTEND:20040522T000000Z
UID:event_2517@rave.ca
SUMMARY:Amazone 7.0
LOCATION:980 Rachel Est
URL:https://www.rave.ca/event/2517/
DESCRIPTION:
CLASS:PUBLIC
CATEGORIES:
STATUS:CONFIRMED
PARTSTAT:ACCEPTED
END:VEVENT
END:VCALENDAR
