BEGIN:VCALENDAR
PRODID:RAVE.CA V17.0
X-WR-CALNAME:Voyeur With Jordan Dare &amp; Dj Bliss
X-ORIGINAL-URL:https://www.rave.ca/event/25018/
VERSION:2.0
CALSCALE:GREGORIAN
METHOD:PUBLISH
BEGIN:VEVENT
DTSTAMP:20090210T230122Z
LAST-MODIFIED:20090210T230122Z
CREATED:20090210T230104Z
SEQUENCE:25018
ORGANIZER:Unknown
DTSTART:20050910T220000Z
DTEND:20050910T220000Z
UID:event_25018@rave.ca
SUMMARY:Voyeur With Jordan Dare & Dj Bliss
LOCATION:Unknown
URL:https://www.rave.ca/event/25018/
DESCRIPTION:
CLASS:PUBLIC
CATEGORIES:
STATUS:CONFIRMED
PARTSTAT:ACCEPTED
END:VEVENT
END:VCALENDAR
