BEGIN:VCALENDAR
PRODID:RAVE.CA V17.0
X-WR-CALNAME:Soma 2010
X-ORIGINAL-URL:https://www.rave.ca/event/24775/
VERSION:2.0
CALSCALE:GREGORIAN
METHOD:PUBLISH
BEGIN:VEVENT
DTSTAMP:20091229T234523Z
LAST-MODIFIED:20091229T234523Z
CREATED:20090203T185051Z
SEQUENCE:24775
ORGANIZER:Phonolite
DTSTART:20091231T220000Z
DTEND:20100101T120000Z
UID:event_24775@rave.ca
SUMMARY:Soma 2010
LOCATION:Unknown
URL:https://www.rave.ca/event/24775/
DESCRIPTION:Phonolite and Psychonaut present:\n\nSOMA 2010\nNew Years Celebration!!\nCelebration du Jour de L'an!!\n\n\n31st December 2009\nMontreal\, Canada\n\n1430 Overdale.\n\n1 minute walk from Lucien Lallier Metro near the Bell center\n1 Minute de marche a partir de Metro lucien Lallier proche du Centre Bell\n\n\n\nVISION ROOM:\n\nAZAX SYNDROM (Live)\n3d Vision (Israel)\nhttp://www.myspace.com/azax\n\nKODE SIX (Live)\nVision Records\nhttp://www.myspace.com/kodesix\n\nPSYCRONIK\nF.A.K (Ottawa)\n\nBR34TH3\nNexus-Media.co.za\n\nPSYDRAULIX\nCreature Prod.\n\nHORIZON\n24/7 Media\, Event Horizon\n\nIHY\nNass El Rahil/Nomadstribe \n\nHI-LO\nNass El Rahil\n\n\n\nATTITUDE ROOM:\n\nFM RADIO GODS (Live)\nAttitude Recordings (Live)\nhttp://www.myspace.com/fmradiogods\n\nHIDRA (Live)\nAttitude Recordings Tribal Vision\nhttp://www.myspace.com/hidramusik\n\nTAPWATR (Live)\nAttitude Recordings\, Noerg\nhttp://www.myspace.com/tapwatr\n\nOLIVIER SAINT-GERMAIN\nAttitude recordings\, Noerg\n\nCAMO\nAttitude Recordings\n\nDOROBO\nDigital Militia\, 64hz\n\nJEAN-S\n64hz\n\n\n\nFORWARD MUSIC ROOM:\n\n\nWALLY and Mc GEN (Live)\nForward Music / Choq.fm\n\nTAAL MALA\nSub Osc (Lighta!) (Vancouver BC)\n\nSHASH'U\nBehind the Mind/ Urban Element\n\nLIVING-STONE\nDig.it.all\n\nVILIFY vs CONSTRUCT\nwickedbad.net/ Bassdrive/ Sub.fm\n\nHOST ONE\nHacksaw Division\n\nGOLGO13 w.Mc QUBIQ\nK.O./ Beat Concierge\n\nRHYS TAYLOR\nForward Music/ CKUT\n\nRCOLA\nRoyal Crown/ Wikkid Records\n\nPINKY38\nPlanet Breaks\n\nPLECKO\n\n\n\nVJ's\n\nFRIGO\nMIKIRAM\nNEURONAUT\n\nDECO PAR:\n\nNEIL GIBSON\nhttp://www.neilgibson.ca\n\nPhonolite and Friends\n\n\n\nINFOLINE:\n514-573-6089\n\n\nTICKETS/BILLETS:\n\nOnline:\nhttp://www.wantickets.com\n\nMontreal:\nPsychonaut \n154 Prince Arthur E\ntel: 514-844-8998\n\nLaurentians:\nChanvre Du Nord\n38 De Martigny E.\nSt Jerome Qc.\ntel: 450-565-5305\n\n\nPRESALE/PREVENTE (Available Now @ Psychonaut!!) $25 \nOct $40\nNov $50\nDec $60\nDoor $80\n\n\nRave.ca Calendar Link: https://www.rave.ca/en/event/24775/\n\nMORE INFO TO COME / PLUS D'INFO A VENIR!!
CLASS:PUBLIC
CATEGORIES:
STATUS:CONFIRMED
PARTSTAT:ACCEPTED
END:VEVENT
END:VCALENDAR
