BEGIN:VCALENDAR
PRODID:RAVE.CA V17.0
X-WR-CALNAME:Super Musique
X-ORIGINAL-URL:https://www.rave.ca/event/2466/
VERSION:2.0
CALSCALE:GREGORIAN
METHOD:PUBLISH
BEGIN:VEVENT
DTSTAMP:20040407T000000Z
LAST-MODIFIED:20040407T000000Z
CREATED:20040407T000000Z
SEQUENCE:2466
ORGANIZER:Unknown
DTSTART:20040429T000000Z
DTEND:20040429T000000Z
UID:event_2466@rave.ca
SUMMARY:Super Musique
LOCATION:Sala Rossa\, La
URL:https://www.rave.ca/event/2466/
DESCRIPTION:http://www.laliste.qc.ca/org.f/psm.html
CLASS:PUBLIC
CATEGORIES:
STATUS:CONFIRMED
PARTSTAT:ACCEPTED
END:VEVENT
END:VCALENDAR
