BEGIN:VCALENDAR
PRODID:RAVE.CA V17.0
X-WR-CALNAME:Kiss My Cabaret
X-ORIGINAL-URL:https://www.rave.ca/event/2457/
VERSION:2.0
CALSCALE:GREGORIAN
METHOD:PUBLISH
BEGIN:VEVENT
DTSTAMP:20040407T000000Z
LAST-MODIFIED:20040407T000000Z
CREATED:20040407T000000Z
SEQUENCE:2457
ORGANIZER:Unknown
DTSTART:20040417T000000Z
DTEND:20040417T000000Z
UID:event_2457@rave.ca
SUMMARY:Kiss My Cabaret
LOCATION:Sala Rossa\, La
URL:https://www.rave.ca/event/2457/
DESCRIPTION:http://www.kissmycabaret.com/
CLASS:PUBLIC
CATEGORIES:
STATUS:CONFIRMED
PARTSTAT:ACCEPTED
END:VEVENT
END:VCALENDAR
